BEGIN:VCALENDAR
VERSION:2.0
PRODID:-//Plone.org//NONSGML plone.app.event//EN
X-WR-TIMEZONE:Pacific/Auckland
BEGIN:VEVENT
SUMMARY:Gold Card Cruisers December Drive 2014
DTSTART;VALUE=DATE-TIME:20141217T213000Z
DTEND;VALUE=DATE-TIME:20141218T030000Z
DTSTAMP;VALUE=DATE-TIME:20260425T011720Z
UID:cff38e2310a64e0096b652b86d95831b
CONTACT:Jim Milne\, 03 366 3060
CREATED;VALUE=DATE-TIME:20141130T204510Z
DESCRIPTION:The CMSNZ regular\, mid-month\, mid-week outing\, pretty much 
 always involving coffee and cake
LAST-MODIFIED;VALUE=DATE-TIME:20141130T204532Z
LOCATION:Christchurch start
URL:https://www.cmsnz.org.nz/events/gold-card-cruisers-december-drive-2014
END:VEVENT
END:VCALENDAR
