BEGIN:VCALENDAR
VERSION:2.0
PRODID:-//Plone.org//NONSGML plone.app.event//EN
X-WR-TIMEZONE:Pacific/Auckland
BEGIN:VEVENT
SUMMARY:Gold Card Cruisers August 2016
DTSTART;VALUE=DATE-TIME:20160817T223000Z
DTEND;VALUE=DATE-TIME:20160818T030000Z
DTSTAMP;VALUE=DATE-TIME:20260425T032904Z
UID:ac5fb80e581f48e0bb4fa4d972a129b9
CATEGORIES:Gold Card Cruisers
CONTACT:Gill Peters\, 021 216 0186\, classicmotoringsocietynzinc@gmail.com
CREATED;VALUE=DATE-TIME:20160802T000730Z
DESCRIPTION:Mid-week\, mid-month\, regular run with the Classic Motoring S
 ociety
LAST-MODIFIED;VALUE=DATE-TIME:20160802T000741Z
LOCATION:Rolleston
URL:https://www.cmsnz.org.nz/events/gold-card-cruisers-august-2016
END:VEVENT
END:VCALENDAR
