BEGIN:VCALENDAR
VERSION:2.0
PRODID:-//Plone.org//NONSGML plone.app.event//EN
X-WR-TIMEZONE:Pacific/Auckland
BEGIN:VEVENT
SUMMARY:Gold Card Cruisers April 2016
DTSTART;VALUE=DATE-TIME:20160413T223000Z
DTEND;VALUE=DATE-TIME:20160414T030000Z
DTSTAMP;VALUE=DATE-TIME:20260425T045126Z
UID:ea441513f2cc4f0c871c325e1ac835bd
CATEGORIES:Gold Card Cruisers
CONTACT:Gill Peters\, classicmotoringsocietynzinc@gmail.com
CREATED;VALUE=DATE-TIME:20160323T005248Z
DESCRIPTION:This is a regular\, mid-month run organised by the Classic Mot
 oring Society. Everyone is welcome
LAST-MODIFIED;VALUE=DATE-TIME:20160328T233839Z
LOCATION:Christchurch
URL:https://www.cmsnz.org.nz/events/gold-card-cruisers-april-2016
END:VEVENT
END:VCALENDAR
