BEGIN:VCALENDAR
VERSION:2.0
PRODID:-//Plone.org//NONSGML plone.app.event//EN
X-WR-TIMEZONE:Pacific/Auckland
BEGIN:VEVENT
SUMMARY:Gold Card Cruise July 2014
DTSTART;VALUE=DATE-TIME:20140716T223000Z
DTEND;VALUE=DATE-TIME:20140717T033000Z
DTSTAMP;VALUE=DATE-TIME:20260425T011740Z
UID:10ae1bce7a234102abf93658ce7533f8
CATEGORIES:Gold Card Cruisers
CREATED;VALUE=DATE-TIME:20140621T235656Z
DESCRIPTION:Monthly mid week run for those that are getting bored!
LAST-MODIFIED;VALUE=DATE-TIME:20140621T235704Z
URL:https://www.cmsnz.org.nz/events/gold-card-cruise-july-2014
END:VEVENT
END:VCALENDAR
