BEGIN:VCALENDAR
VERSION:2.0
PRODID:-//Plone.org//NONSGML plone.app.event//EN
X-WR-TIMEZONE:Pacific/Auckland
BEGIN:VEVENT
SUMMARY:Gold Card Cruise January 2016
DTSTART;VALUE=DATE-TIME:20160113T213000Z
DTEND;VALUE=DATE-TIME:20160114T030000Z
DTSTAMP;VALUE=DATE-TIME:20260425T005734Z
UID:258e626ad18e4e769e7d9bf24414a532
CATEGORIES:Gold Card Cruisers
CREATED;VALUE=DATE-TIME:20151130T043809Z
DESCRIPTION:Mid-month\, regular\, day run with CMSNZ
LAST-MODIFIED;VALUE=DATE-TIME:20151130T043912Z
LOCATION:Christchurch
URL:https://www.cmsnz.org.nz/events/gold-card-cruise-january-2016
END:VEVENT
END:VCALENDAR
