BEGIN:VCALENDAR
VERSION:2.0
PRODID:-//Plone.org//NONSGML plone.app.event//EN
X-WR-TIMEZONE:Pacific/Auckland
BEGIN:VEVENT
SUMMARY:First Run of the Year 2016
DTSTART;VALUE=DATE-TIME:20160102T210000Z
DTEND;VALUE=DATE-TIME:20160103T030000Z
DTSTAMP;VALUE=DATE-TIME:20260425T011616Z
UID:50f0e560eb964cc6b6893883c0e8ae8b
CATEGORIES:Monthly Run
CONTACT:Mel & Gill Peters\, 03 366 3060\, petersmg@snap.net.nz
CREATED;VALUE=DATE-TIME:20151130T043532Z
DESCRIPTION:First Sunday of the month\, first month of the year! Our regul
 ar\, monthly\, first Sunday of the month run with CMSNZ
LAST-MODIFIED;VALUE=DATE-TIME:20151130T043540Z
LOCATION:Christchurch
URL:https://www.cmsnz.org.nz/events/first-run-of-the-year-2016
END:VEVENT
END:VCALENDAR
