BEGIN:VCALENDAR
VERSION:2.0
PRODID:-//Plone.org//NONSGML plone.app.event//EN
X-WR-TIMEZONE:Pacific/Auckland
BEGIN:VEVENT
SUMMARY:February Fun!
DTSTART;VALUE=DATE-TIME:20110212T213000Z
DTEND;VALUE=DATE-TIME:20110213T030000Z
DTSTAMP;VALUE=DATE-TIME:20260425T010906Z
UID:eca15d3eb171a4cbd3c51cc28abdbd00
CATEGORIES:Monthly Run
CONTACT:info@cmsnz.org.nz
CREATED;VALUE=DATE-TIME:20100823T234228Z
DESCRIPTION:The Classic Motoring Society's regular 1st Sunday of the month
  run has been moved to the 2nd Sunday of February so we can all go to the 
 classic car racing at Ruapuna in the first weekend of February as well!
LAST-MODIFIED;VALUE=DATE-TIME:20100917T060333Z
LOCATION:Christchurch
URL:https://www.cmsnz.org.nz/events/february-fun
END:VEVENT
END:VCALENDAR
