BEGIN:VCALENDAR
VERSION:2.0
PRODID:-//Plone.org//NONSGML plone.app.event//EN
X-WR-TIMEZONE:Pacific/Auckland
BEGIN:VEVENT
SUMMARY:February Fun
DTSTART;VALUE=DATE-TIME:20120211T213000Z
DTEND;VALUE=DATE-TIME:20120212T030000Z
DTSTAMP;VALUE=DATE-TIME:20260425T025430Z
UID:74f2346268caff9d1e6c66a6535b5886
CATEGORIES:Monthly Run
CONTACT:Mel Peters\, 03 337 4144\, petersmg@ihug.co.nz
CREATED;VALUE=DATE-TIME:20120113T030800Z
DESCRIPTION:We are planning (hoping) for a calm day to complete the 2nd ha
 lf of the 'Lake Ellesmere Journey' for our February Fun Run!
LAST-MODIFIED;VALUE=DATE-TIME:20120124T015848Z
LOCATION:Christchurch
URL:https://www.cmsnz.org.nz/events/february-fun-1
END:VEVENT
END:VCALENDAR
