BEGIN:VCALENDAR
VERSION:2.0
PRODID:-//Plone.org//NONSGML plone.app.event//EN
X-WR-TIMEZONE:Pacific/Auckland
BEGIN:VEVENT
SUMMARY:February Fiesta 2013
DTSTART;VALUE=DATE-TIME:20130209T213000Z
DTEND;VALUE=DATE-TIME:20130210T030000Z
DTSTAMP;VALUE=DATE-TIME:20260425T044648Z
UID:3b9073d2d741481fa83fd703b5f8fa80
CATEGORIES:Monthly Run
CONTACT:Mel Peters\, petersmg@ihug.co.nz
CREATED;VALUE=DATE-TIME:20121205T003117Z
DESCRIPTION:This month the CMSNZ's monthly run is NOT the first Sunday of 
 the month
LAST-MODIFIED;VALUE=DATE-TIME:20121205T003440Z
LOCATION:Christchurch
URL:https://www.cmsnz.org.nz/events/february-fiesta-2013
END:VEVENT
END:VCALENDAR
