BEGIN:VCALENDAR
VERSION:2.0
PRODID:-//Plone.org//NONSGML plone.app.event//EN
X-WR-TIMEZONE:Pacific/Auckland
BEGIN:VEVENT
SUMMARY:February 2015 Gold Card Cruisers
DTSTART;VALUE=DATE-TIME:20150211T213000Z
DTEND;VALUE=DATE-TIME:20150212T020000Z
DTSTAMP;VALUE=DATE-TIME:20260425T080348Z
UID:aea0e207b974447388ff0ad05c4f822b
CATEGORIES:Gold Card Cruisers
CREATED;VALUE=DATE-TIME:20150125T212001Z
DESCRIPTION:Regular\, mid-month\, mid-week run by the Classic Motoring Soc
 iety that is open to anyone with a classic vehicle\, not just those with t
 he famous "Gold Card"
LAST-MODIFIED;VALUE=DATE-TIME:20150125T220748Z
LOCATION:Belfast (Christchurch) start
URL:https://www.cmsnz.org.nz/events/february-2015-gold-card-cruisers
END:VEVENT
END:VCALENDAR
