BEGIN:VCALENDAR
VERSION:2.0
PRODID:-//Plone.org//NONSGML plone.app.event//EN
X-WR-TIMEZONE:Pacific/Auckland
BEGIN:VEVENT
SUMMARY:Fathers' Day Celebration September 2015
DTSTART;VALUE=DATE-TIME:20150905T220000Z
DTEND;VALUE=DATE-TIME:20150906T040000Z
DTSTAMP;VALUE=DATE-TIME:20260425T063004Z
UID:74fd84b7e5814563ac3639e28a21ff30
CATEGORIES:Monthly Run
CREATED;VALUE=DATE-TIME:20150812T052032Z
DESCRIPTION:We're not promising daffodils on our regular\, first Sunday of
  the month run with CMSNZ but you never know.
LAST-MODIFIED;VALUE=DATE-TIME:20150901T233510Z
LOCATION:Christchurch
URL:https://www.cmsnz.org.nz/events/fathers-day-celebration-september-2015
END:VEVENT
END:VCALENDAR
