BEGIN:VCALENDAR
VERSION:2.0
PRODID:-//Plone.org//NONSGML plone.app.event//EN
X-WR-TIMEZONE:Pacific/Auckland
BEGIN:VEVENT
SUMMARY:Fantastic February 2015 Sunday Run
DTSTART;VALUE=DATE-TIME:20150131T210000Z
DTEND;VALUE=DATE-TIME:20150201T030000Z
DTSTAMP;VALUE=DATE-TIME:20260425T005755Z
UID:4e68d73c01db456b89b2c01bc0f033e5
CATEGORIES:Monthly Run
CONTACT:Mel & Gill Peters\, 03 337 4144\, petersmg@ihug.co.nz
CREATED;VALUE=DATE-TIME:20150125T205752Z
DESCRIPTION:As usual\, the Classic Motoring Society is having a first Sund
 ay of the month run.
LAST-MODIFIED;VALUE=DATE-TIME:20150125T213924Z
LOCATION:Christchurch start
URL:https://www.cmsnz.org.nz/events/fantastic-february-2015-sunday-run
END:VEVENT
END:VCALENDAR
