BEGIN:VCALENDAR
VERSION:2.0
PRODID:-//Plone.org//NONSGML plone.app.event//EN
X-WR-TIMEZONE:Pacific/Auckland
BEGIN:VEVENT
SUMMARY:December Delight 2016
DTSTART;VALUE=DATE-TIME:20161203T210000Z
DTEND;VALUE=DATE-TIME:20161204T030000Z
DTSTAMP;VALUE=DATE-TIME:20260425T025741Z
UID:e898216c9c764a068a68ca7278927371
CATEGORIES:Monthly Run
CREATED;VALUE=DATE-TIME:20160325T031003Z
DESCRIPTION:Final first Sunday of the month day run from CMSNZ for the yea
 r
LAST-MODIFIED;VALUE=DATE-TIME:20160325T031013Z
LOCATION:Christchurch
URL:https://www.cmsnz.org.nz/events/december-delight-2016
END:VEVENT
END:VCALENDAR
