BEGIN:VCALENDAR
VERSION:2.0
PRODID:-//Plone.org//NONSGML plone.app.event//EN
X-WR-TIMEZONE:Pacific/Auckland
BEGIN:VEVENT
SUMMARY:December Delight 2015
DTSTART;VALUE=DATE-TIME:20151205T210000Z
DTEND;VALUE=DATE-TIME:20151206T030000Z
DTSTAMP;VALUE=DATE-TIME:20260425T023018Z
UID:e2a51d2ca9284d6d891c7264f42a676b
CATEGORIES:Monthly Run
CONTACT:Mel & Gill Peters\, 03 261 9166\, petersmg@snap.net.nz
CREATED;VALUE=DATE-TIME:20151130T001211Z
DESCRIPTION:CMSNZ regular\, monthly\, Sunday run\, this time celebrating C
 hristmas
LAST-MODIFIED;VALUE=DATE-TIME:20151130T001229Z
LOCATION:Christchurch
URL:https://www.cmsnz.org.nz/events/december-delight-2015
END:VEVENT
END:VCALENDAR
