BEGIN:VCALENDAR
VERSION:2.0
PRODID:-//Plone.org//NONSGML plone.app.event//EN
X-WR-TIMEZONE:Pacific/Auckland
BEGIN:VEVENT
SUMMARY:December 2015 Gold Card Cruisers
DTSTART;VALUE=DATE-TIME:20151216T220000Z
DTEND;VALUE=DATE-TIME:20151217T030000Z
DTSTAMP;VALUE=DATE-TIME:20260425T005554Z
UID:a50f3eae32e447cb90695875e6d1c787
CATEGORIES:Gold Card Cruisers
CONTACT:Jim Milne\, 03 366 3060 or 027 611 3455
CREATED;VALUE=DATE-TIME:20151130T001747Z
DESCRIPTION:Another one of our regular\, monthly\, mid-week run from the C
 lassic Motoring Society of NZ.
LAST-MODIFIED;VALUE=DATE-TIME:20151130T001909Z
LOCATION:Christchurch
URL:https://www.cmsnz.org.nz/events/december-2015-gold-card-cruisers
END:VEVENT
END:VCALENDAR
