BEGIN:VCALENDAR
VERSION:2.0
PRODID:-//Plone.org//NONSGML plone.app.event//EN
X-WR-TIMEZONE:Pacific/Auckland
BEGIN:VEVENT
SUMMARY:December 2014 outing to Lake Coleridge
DTSTART;VALUE=DATE-TIME:20141206T203000Z
DTEND;VALUE=DATE-TIME:20141207T030000Z
DTSTAMP;VALUE=DATE-TIME:20260425T005424Z
UID:ed83248e008d468caa3a71328a26ff45
CONTACT:Mel & Gill Peters\, 03 337 4144\, petersmg@ihug.co.nz
CREATED;VALUE=DATE-TIME:20140915T023017Z
DESCRIPTION:The CMSNZ regular\, first Sunday of the month\, day run. Pleas
 e note that this is starting MUCH EARLIER than normal as the road through 
 the Coleridge Village is closed from 10.15am
LAST-MODIFIED;VALUE=DATE-TIME:20141130T205949Z
LOCATION:Lake Coleridge
URL:https://www.cmsnz.org.nz/events/december-2014-outing-to-lake-coleridge
END:VEVENT
END:VCALENDAR
