BEGIN:VCALENDAR
VERSION:2.0
PRODID:-//Plone.org//NONSGML plone.app.event//EN
X-WR-TIMEZONE:Pacific/Auckland
BEGIN:VEVENT
SUMMARY:Day Excursion
DTSTART;VALUE=DATE-TIME:20070915T120000Z
DTEND;VALUE=DATE-TIME:20070915T120000Z
DTSTAMP;VALUE=DATE-TIME:20260423T173659Z
UID:e6ea23adc926375c166a64714b6f760f
CREATED;VALUE=DATE-TIME:20070719T212641Z
LAST-MODIFIED;VALUE=DATE-TIME:20080124T010337Z
LOCATION:Christchurch
URL:https://www.cmsnz.org.nz/events/day-excursion
END:VEVENT
END:VCALENDAR
