BEGIN:VCALENDAR
VERSION:2.0
PRODID:-//Plone.org//NONSGML plone.app.event//EN
X-WR-TIMEZONE:Pacific/Auckland
BEGIN:VEVENT
SUMMARY:Dawnbreaker
DTSTART;VALUE=DATE-TIME:20070623T164500Z
DTEND;VALUE=DATE-TIME:20070623T220000Z
DTSTAMP;VALUE=DATE-TIME:20260425T060843Z
UID:03bf0ac13e9cdfa7c9ebef5bb41204e4
CREATED;VALUE=DATE-TIME:20070411T000446Z
DESCRIPTION:Our annual\, extremely early morning run on the Sunday closest
  to the shortest day of the year.
LAST-MODIFIED;VALUE=DATE-TIME:20070719T212153Z
LOCATION:Christchurch start
URL:https://www.cmsnz.org.nz/events/dawnbreaker
END:VEVENT
END:VCALENDAR
