BEGIN:VCALENDAR
VERSION:2.0
PRODID:-//Plone.org//NONSGML plone.app.event//EN
X-WR-TIMEZONE:Pacific/Auckland
BEGIN:VEVENT
SUMMARY:Cruising into April
DTSTART;VALUE=DATE-TIME:20140416T223000Z
DTEND;VALUE=DATE-TIME:20140417T030000Z
DTSTAMP;VALUE=DATE-TIME:20260425T043424Z
UID:1e788201cb4d4bc0bbf5b1fb292af69d
CATEGORIES:Gold Card Cruisers
CREATED;VALUE=DATE-TIME:20140220T235622Z
DESCRIPTION:Another regular\, monthly mid-month run by the CMSNZ
LAST-MODIFIED;VALUE=DATE-TIME:20140220T235636Z
LOCATION:Christchurch
URL:https://www.cmsnz.org.nz/events/cruising-into-april
END:VEVENT
END:VCALENDAR
