BEGIN:VCALENDAR
VERSION:2.0
PRODID:-//Plone.org//NONSGML plone.app.event//EN
X-WR-TIMEZONE:Pacific/Auckland
BEGIN:VEVENT
SUMMARY:Cruising in January
DTSTART;VALUE=DATE-TIME:20140115T213000Z
DTEND;VALUE=DATE-TIME:20140116T030000Z
DTSTAMP;VALUE=DATE-TIME:20260425T023524Z
UID:779dd10aa7a74ff89e88ee3070928de7
CATEGORIES:Gold Card Cruisers
CONTACT:Mel Peters\, 03 337 4144\, petersmg@ihug.co.nz
CREATED;VALUE=DATE-TIME:20140109T081323Z
DESCRIPTION:Our regular\, monthly\, Thursday cruise. Come and join us - yo
 u don't have to be a Gold Card holder!!
LAST-MODIFIED;VALUE=DATE-TIME:20140109T081338Z
LOCATION:Christchurch
URL:https://www.cmsnz.org.nz/events/cruising-in-january
END:VEVENT
END:VCALENDAR
