BEGIN:VCALENDAR
VERSION:2.0
PRODID:-//Plone.org//NONSGML plone.app.event//EN
X-WR-TIMEZONE:Pacific/Auckland
BEGIN:VEVENT
SUMMARY:Country Fair & Vintage Rally in Leeston
DTSTART;VALUE=DATE-TIME:20140328T110000Z
DTEND;VALUE=DATE-TIME:20140329T110000Z
DTSTAMP;VALUE=DATE-TIME:20260425T030928Z
UID:04fac200ea37482a895862124e0016ef
CONTACT:Les Sloan\, 03 3243640\, sloany@xtra.co.nz\, http://www.leeston.co
 .nz/leeston-150-years.html
CREATED;VALUE=DATE-TIME:20140218T054600Z
DESCRIPTION:Ellesmere Vintage Club Inc in conjunction with Leeston 150 Yea
 rs is holding a two day Country Fair and Vintage Rally at the Leeston A&P 
 Showgrounds. This is NOT a CMSNZ event
LAST-MODIFIED;VALUE=DATE-TIME:20140218T055403Z
LOCATION:Leeston\, Canterbury
URL:https://www.cmsnz.org.nz/events/country-fair-vintage-rally-in-leeston
END:VEVENT
END:VCALENDAR
