BEGIN:VCALENDAR
VERSION:2.0
PRODID:-//Plone.org//NONSGML plone.app.event//EN
X-WR-TIMEZONE:Pacific/Auckland
BEGIN:VEVENT
SUMMARY:April Run
DTSTART;VALUE=DATE-TIME:20090404T223000Z
DTEND;VALUE=DATE-TIME:20090405T040000Z
DTSTAMP;VALUE=DATE-TIME:20260425T025551Z
UID:2f22cca8e05e9f8a51653b6ad9680eb1
CREATED;VALUE=DATE-TIME:20090211T230010Z
DESCRIPTION:Come and eat Easter eggs with us and check that your classic c
 ar is in good working order before the Easter weekend
LAST-MODIFIED;VALUE=DATE-TIME:20090211T232255Z
LOCATION:Christchurch
URL:https://www.cmsnz.org.nz/events/copy_of_march-hare-run
END:VEVENT
END:VCALENDAR
