BEGIN:VCALENDAR
VERSION:2.0
PRODID:-//Plone.org//NONSGML plone.app.event//EN
X-WR-TIMEZONE:Pacific/Auckland
BEGIN:VEVENT
SUMMARY:December Run
DTSTART;VALUE=DATE-TIME:20091205T213000Z
DTEND;VALUE=DATE-TIME:20091206T030000Z
DTSTAMP;VALUE=DATE-TIME:20260425T025752Z
UID:30f683b47cc70366fb62b479af9b73ea
CREATED;VALUE=DATE-TIME:20090211T230010Z
DESCRIPTION:Christmas BBQ brunch - byo bbq
LAST-MODIFIED;VALUE=DATE-TIME:20091105T021022Z
LOCATION:Christchurch
URL:https://www.cmsnz.org.nz/events/copy7_of_march-hare-run
END:VEVENT
END:VCALENDAR
