BEGIN:VCALENDAR
VERSION:2.0
PRODID:-//Plone.org//NONSGML plone.app.event//EN
X-WR-TIMEZONE:Pacific/Auckland
BEGIN:VEVENT
SUMMARY:November Run
DTSTART;VALUE=DATE-TIME:20091031T213000Z
DTEND;VALUE=DATE-TIME:20091101T030000Z
DTSTAMP;VALUE=DATE-TIME:20260425T025816Z
UID:b9c1f84f1cf268a1f01d0e864d47bb94
CREATED;VALUE=DATE-TIME:20090211T230010Z
DESCRIPTION:Its nearly the end of the year so its time for a relaxing driv
 e in your classic car
LAST-MODIFIED;VALUE=DATE-TIME:20090211T232901Z
LOCATION:Christchurch
URL:https://www.cmsnz.org.nz/events/copy6_of_march-hare-run
END:VEVENT
END:VCALENDAR
