BEGIN:VCALENDAR
VERSION:2.0
PRODID:-//Plone.org//NONSGML plone.app.event//EN
X-WR-TIMEZONE:Pacific/Auckland
BEGIN:VEVENT
SUMMARY:Out & About in October Run
DTSTART;VALUE=DATE-TIME:20091003T213000Z
DTEND;VALUE=DATE-TIME:20091004T030000Z
DTSTAMP;VALUE=DATE-TIME:20260425T025727Z
UID:47085f41f0d9291277bf99d0917d3a9e
CREATED;VALUE=DATE-TIME:20090211T230010Z
LAST-MODIFIED;VALUE=DATE-TIME:20090521T033935Z
LOCATION:Christchurch
URL:https://www.cmsnz.org.nz/events/copy5_of_march-hare-run
END:VEVENT
END:VCALENDAR
