BEGIN:VCALENDAR
VERSION:2.0
PRODID:-//Plone.org//NONSGML plone.app.event//EN
X-WR-TIMEZONE:Pacific/Auckland
BEGIN:VEVENT
SUMMARY:Silly in September Run
DTSTART;VALUE=DATE-TIME:20090905T223000Z
DTEND;VALUE=DATE-TIME:20090906T040000Z
DTSTAMP;VALUE=DATE-TIME:20260425T025710Z
UID:06e23c169f30b5727c82923c32d7d029
CREATED;VALUE=DATE-TIME:20090211T230010Z
DESCRIPTION:I appear to be fond of alliteration in event names!
LAST-MODIFIED;VALUE=DATE-TIME:20090831T215342Z
LOCATION:Christchurch
URL:https://www.cmsnz.org.nz/events/copy4_of_march-hare-run
END:VEVENT
END:VCALENDAR
