BEGIN:VCALENDAR
VERSION:2.0
PRODID:-//Plone.org//NONSGML plone.app.event//EN
X-WR-TIMEZONE:Pacific/Auckland
BEGIN:VEVENT
SUMMARY:July Run - historic Kaiapoi tour
DTSTART;VALUE=DATE-TIME:20090704T223000Z
DTEND;VALUE=DATE-TIME:20090705T040000Z
DTSTAMP;VALUE=DATE-TIME:20260425T025718Z
UID:04210debdecf39f17d93a9f7fbee340c
CONTACT:Tony Childs\, 027 298 1445
CREATED;VALUE=DATE-TIME:20090211T230010Z
DESCRIPTION:An opportunity for a winter shake down run before the Alpine C
 lassic
LAST-MODIFIED;VALUE=DATE-TIME:20090403T030831Z
LOCATION:Christchurch
URL:https://www.cmsnz.org.nz/events/copy3_of_march-hare-run
END:VEVENT
END:VCALENDAR
