BEGIN:VCALENDAR
VERSION:2.0
PRODID:-//Plone.org//NONSGML plone.app.event//EN
X-WR-TIMEZONE:Pacific/Auckland
BEGIN:VEVENT
SUMMARY:May Madness
DTSTART;VALUE=DATE-TIME:20090502T223000Z
DTEND;VALUE=DATE-TIME:20090503T040000Z
DTSTAMP;VALUE=DATE-TIME:20260425T025537Z
UID:813ad6d2b5d361494dbbbd8b81d1d6d0
CREATED;VALUE=DATE-TIME:20090211T230010Z
DESCRIPTION:Our regularly scheduled monthly run right at the beginning of 
 May
LAST-MODIFIED;VALUE=DATE-TIME:20090211T232319Z
LOCATION:Christchurch
URL:https://www.cmsnz.org.nz/events/copy2_of_march-hare-run
END:VEVENT
END:VCALENDAR
