BEGIN:VCALENDAR
VERSION:2.0
PRODID:-//Plone.org//NONSGML plone.app.event//EN
X-WR-TIMEZONE:Pacific/Auckland
BEGIN:VEVENT
SUMMARY:Combined Christmas Picnic Cruise
DTSTART;VALUE=DATE-TIME:20131130T213000Z
DTEND;VALUE=DATE-TIME:20131201T030000Z
DTSTAMP;VALUE=DATE-TIME:20260425T045258Z
UID:8423c7e6534d4c17bcf228e8b9221888
CATEGORIES:Monthly Run
CONTACT:Stephanie Royds\, 021 341 315\, info@cmsnz.org.nz
CREATED;VALUE=DATE-TIME:20131024T215052Z
DESCRIPTION:Annual picnic for all classic motoring enthusiasts and groups
LAST-MODIFIED;VALUE=DATE-TIME:20131128T034713Z
LOCATION:Orton Bradley Park\, Charteris Bay
URL:https://www.cmsnz.org.nz/events/combined-christmas-picnic-cruise
END:VEVENT
END:VCALENDAR
