BEGIN:VCALENDAR
VERSION:2.0
PRODID:-//Plone.org//NONSGML plone.app.event//EN
X-WR-TIMEZONE:Pacific/Auckland
BEGIN:VEVENT
SUMMARY:Classic Marathon 2016
DTSTART;VALUE=DATE-TIME:20160409T210000Z
DTEND;VALUE=DATE-TIME:20160417T050000Z
DTSTAMP;VALUE=DATE-TIME:20260425T043208Z
UID:19d95ac152d5457cb963404ef54bf86e
CATEGORIES:Classic Marathon
CREATED;VALUE=DATE-TIME:20150812T052651Z
DESCRIPTION:Come and explore the North Island with the Classic Motoring So
 ciety in 2016
LAST-MODIFIED;VALUE=DATE-TIME:20150812T052700Z
LOCATION:North Island
URL:https://www.cmsnz.org.nz/events/classic-marathon-2016
END:VEVENT
END:VCALENDAR
