BEGIN:VCALENDAR
VERSION:2.0
PRODID:-//Plone.org//NONSGML plone.app.event//EN
X-WR-TIMEZONE:Pacific/Auckland
BEGIN:VEVENT
SUMMARY:Classic Marathon 2014
DTSTART;VALUE=DATE-TIME:20140315T203000Z
DTEND;VALUE=DATE-TIME:20140322T100000Z
DTSTAMP;VALUE=DATE-TIME:20260425T030121Z
UID:0dbf6cdc66b143de9e83c83717de0aa5
CATEGORIES:Classic Marathon
CONTACT:Graeme Sharp\, 021 395 944\, sharpish@clear.net.nz
CREATED;VALUE=DATE-TIME:20130827T040906Z
DESCRIPTION:Woo hoo! Its Classic Marathon time again. Get your cars ready 
 for a week of driving and book your leave from work.
LAST-MODIFIED;VALUE=DATE-TIME:20131113T210002Z
LOCATION:South Island\, NZ
URL:https://www.cmsnz.org.nz/events/classic-marathon-2014
END:VEVENT
END:VCALENDAR
