BEGIN:VCALENDAR
VERSION:2.0
PRODID:-//Plone.org//NONSGML plone.app.event//EN
X-WR-TIMEZONE:Pacific/Auckland
BEGIN:VEVENT
SUMMARY:Classic Marathon 2012
DTSTART;VALUE=DATE-TIME:20120217T193000Z
DTEND;VALUE=DATE-TIME:20120225T093000Z
DTSTAMP;VALUE=DATE-TIME:20260425T043218Z
UID:229e866bcf7160e37c5122344de00801
CATEGORIES:Classic Marathon
CONTACT:info@cmsnz.co.nz
CREATED;VALUE=DATE-TIME:20101129T215325Z
DESCRIPTION:A week long classic car tour\, run every two years by the Clas
 sic Motoring Society.
LAST-MODIFIED;VALUE=DATE-TIME:20120129T214025Z
LOCATION:South Island\, NZ
URL:https://www.cmsnz.org.nz/events/classic-marathon-2012
END:VEVENT
END:VCALENDAR
