BEGIN:VCALENDAR
VERSION:2.0
PRODID:-//Plone.org//NONSGML plone.app.event//EN
X-WR-TIMEZONE:Pacific/Auckland
BEGIN:VEVENT
SUMMARY:Classic Marathon 2010
DTSTART;VALUE=DATE-TIME:20100306T050000Z
DTEND;VALUE=DATE-TIME:20100311T100000Z
DTSTAMP;VALUE=DATE-TIME:20260425T011151Z
UID:cf47c34cbb4febe1d3ea6f5039df18e4
CREATED;VALUE=DATE-TIME:20071202T224146Z
DESCRIPTION:We're going to the North Island again!
LAST-MODIFIED;VALUE=DATE-TIME:20090428T232943Z
LOCATION:North Island
URL:https://www.cmsnz.org.nz/events/classic-marathon-2010
END:VEVENT
END:VCALENDAR
