BEGIN:VCALENDAR
VERSION:2.0
PRODID:-//Plone.org//NONSGML plone.app.event//EN
X-WR-TIMEZONE:Pacific/Auckland
BEGIN:VEVENT
SUMMARY:Classic Car Show in Christchurch is on
DTSTART;VALUE=DATE-TIME:20111119T210000Z
DTEND;VALUE=DATE-TIME:20111120T030000Z
DTSTAMP;VALUE=DATE-TIME:20260425T045601Z
UID:4e84477958c58cd9645210833fe7e40c
CONTACT:Colin Hey\, 03 359 8737 (8.15am-10pm)\, cardisplays@hotmail.com\, 
 http://classiccarshow.co.nz/
CREATED;VALUE=DATE-TIME:20111011T221359Z
DESCRIPTION:Sponsored by Autovia\, the Classic Car Show is on again in Chr
 istchurch with a new venue and a different\, simpler format. This is not a
  Classic Motoring Society event but one we all enjoy.
LAST-MODIFIED;VALUE=DATE-TIME:20111011T222404Z
LOCATION:Ouruhia Domain\, Marshlands
URL:https://www.cmsnz.org.nz/events/classic-car-show-in-christchurch-is-on
END:VEVENT
END:VCALENDAR
