BEGIN:VCALENDAR
VERSION:2.0
PRODID:-//Plone.org//NONSGML plone.app.event//EN
X-WR-TIMEZONE:Pacific/Auckland
BEGIN:VEVENT
SUMMARY:Classic Car Show 2013 cancelled
DTSTART;VALUE=DATE-TIME:20130816T220000Z
DTEND;VALUE=DATE-TIME:20130818T040000Z
DTSTAMP;VALUE=DATE-TIME:20260425T011424Z
UID:501b3ee918624798af44898780ddcd7a
CONTACT:Colin Hey\, http://www.classiccarshow.co.nz
CREATED;VALUE=DATE-TIME:20121104T195515Z
DESCRIPTION:This is NOT a CMSNZ event. All information supplied by the org
 anisers.
LAST-MODIFIED;VALUE=DATE-TIME:20130808T081650Z
LOCATION:Pioneer Sports & Recreation Centre\, Christchurch
URL:https://www.cmsnz.org.nz/events/classic-car-show-2013
END:VEVENT
END:VCALENDAR
