BEGIN:VCALENDAR
VERSION:2.0
PRODID:-//Plone.org//NONSGML plone.app.event//EN
X-WR-TIMEZONE:Pacific/Auckland
BEGIN:VEVENT
SUMMARY:Classic Car Show 2012
DTSTART;VALUE=DATE-TIME:20121110T210000Z
DTEND;VALUE=DATE-TIME:20121111T030000Z
DTSTAMP;VALUE=DATE-TIME:20260425T044329Z
UID:f457c5ed580a4fb5b6695344c307ec3c
CONTACT:Colin Hey\, http://www.classiccarshow.co.nz/index.html
CREATED;VALUE=DATE-TIME:20120906T212339Z
DESCRIPTION:This event has been cancelled for 2012 but will run in 2013. T
 his is NOT a CMSNZ event and the information has been supplied by the orga
 nisers. Annual Classic Car Show run in Christchurch since 1982.
LAST-MODIFIED;VALUE=DATE-TIME:20121104T194923Z
URL:https://www.cmsnz.org.nz/events/classic-car-show-2012
END:VEVENT
END:VCALENDAR
