BEGIN:VCALENDAR
VERSION:2.0
PRODID:-//Plone.org//NONSGML plone.app.event//EN
X-WR-TIMEZONE:Pacific/Auckland
BEGIN:VEVENT
SUMMARY:Christmas Eve Outing 2014
DTSTART;VALUE=DATE-TIME:20141224T020000Z
DTEND;VALUE=DATE-TIME:20141224T080000Z
DTSTAMP;VALUE=DATE-TIME:20260425T044740Z
UID:1701fff833ac4ebe9d1b74c3c3b1c1da
CONTACT:Gill Peters\, 03 337 4144\, petersmg@ihug.co.nz
CREATED;VALUE=DATE-TIME:20141221T063907Z
DESCRIPTION:This is a bonus and unplanned opportunity for one last outing 
 and a great way to finish your classic motoring year
LAST-MODIFIED;VALUE=DATE-TIME:20141221T070122Z
LOCATION:Christchurch
URL:https://www.cmsnz.org.nz/events/christmas-eve-outing-2014
END:VEVENT
END:VCALENDAR
