BEGIN:VCALENDAR
VERSION:2.0
PRODID:-//Plone.org//NONSGML plone.app.event//EN
X-WR-TIMEZONE:Pacific/Auckland
BEGIN:VEVENT
SUMMARY:Christmas BBQ 2010
DTSTART;VALUE=DATE-TIME:20101204T213000Z
DTEND;VALUE=DATE-TIME:20101205T030000Z
DTSTAMP;VALUE=DATE-TIME:20260425T061100Z
UID:a7aba390762dc4554be33a1a50a79679
CATEGORIES:Monthly Run
CONTACT:S Royds\, 03-341 3141\, info@cmsnz.org.nz
CREATED;VALUE=DATE-TIME:20100727T231448Z
DESCRIPTION:An opportunity for the Classic Motoring Society to get togethe
 r with other classic car clubs and celebrate the end of the year in your c
 lassic vehicle.
LAST-MODIFIED;VALUE=DATE-TIME:20101129T213827Z
LOCATION:Christchurch & Banks Peninsula
URL:https://www.cmsnz.org.nz/events/christmas-bbq-2010
END:VEVENT
END:VCALENDAR
