BEGIN:VCALENDAR
VERSION:2.0
PRODID:-//Plone.org//NONSGML plone.app.event//EN
X-WR-TIMEZONE:Pacific/Auckland
BEGIN:VEVENT
SUMMARY:Chasing the Steam Train
DTSTART;VALUE=DATE-TIME:20140823T213000Z
DTEND;VALUE=DATE-TIME:20140824T040000Z
DTSTAMP;VALUE=DATE-TIME:20260425T025355Z
UID:bc0843c6a9654c3a88dc92234bfdc842
CREATED;VALUE=DATE-TIME:20140820T235841Z
DESCRIPTION:Short notice run from the Classic Motoring Society\, just beca
 use we felt like it!
LAST-MODIFIED;VALUE=DATE-TIME:20140821T000739Z
LOCATION:Rolleston
URL:https://www.cmsnz.org.nz/events/chasing-the-steam-train
END:VEVENT
END:VCALENDAR
