BEGIN:VCALENDAR
VERSION:2.0
PRODID:-//Plone.org//NONSGML plone.app.event//EN
X-WR-TIMEZONE:Pacific/Auckland
BEGIN:VEVENT
SUMMARY:Big Day Out  - March 2015
DTSTART;VALUE=DATE-TIME:20150228T213000Z
DTEND;VALUE=DATE-TIME:20150301T030000Z
DTSTAMP;VALUE=DATE-TIME:20260425T044203Z
UID:237668032ff144dba389a57effe71e5d
CATEGORIES:Monthly Run
CREATED;VALUE=DATE-TIME:20150125T220537Z
DESCRIPTION:This month's Sunday outing by the Classic Motoring Society wil
 l be probably involve more miles than some of our other monthly runs.
LAST-MODIFIED;VALUE=DATE-TIME:20150125T220622Z
LOCATION:Christchurch start
URL:https://www.cmsnz.org.nz/events/big-day-out-march-2015
END:VEVENT
END:VCALENDAR
