BEGIN:VCALENDAR
VERSION:2.0
PRODID:-//Plone.org//NONSGML plone.app.event//EN
X-WR-TIMEZONE:Pacific/Auckland
BEGIN:VEVENT
SUMMARY:Awesome August Run
DTSTART;VALUE=DATE-TIME:20090801T223000Z
DTEND;VALUE=DATE-TIME:20090802T040000Z
DTSTAMP;VALUE=DATE-TIME:20260425T030226Z
UID:3ae7406f1342f9d58cd1539baa6e03c4
CREATED;VALUE=DATE-TIME:20090413T215318Z
DESCRIPTION:Two events in one month!  This is additional as we thought peo
 ple wouldn't want to wait until the end of the month to use their classic 
 cars.
LAST-MODIFIED;VALUE=DATE-TIME:20090413T215329Z
LOCATION:Christchurch
URL:https://www.cmsnz.org.nz/events/awesome-august-run
END:VEVENT
END:VCALENDAR
