BEGIN:VCALENDAR
VERSION:2.0
PRODID:-//Plone.org//NONSGML plone.app.event//EN
X-WR-TIMEZONE:Pacific/Auckland
BEGIN:VEVENT
SUMMARY:Awesome August 2016
DTSTART;VALUE=DATE-TIME:20160806T220000Z
DTEND;VALUE=DATE-TIME:20160807T040000Z
DTSTAMP;VALUE=DATE-TIME:20260425T043135Z
UID:39d06a8eb0b34fe0afd8a265da563de8
CONTACT:Gill Peters\, 021 216 0186\, classicmotoringsocietynzinc@gmail.com
CREATED;VALUE=DATE-TIME:20160325T030104Z
DESCRIPTION:First Sunday of the month\, day run with CMSNZ
LAST-MODIFIED;VALUE=DATE-TIME:20160802T000215Z
LOCATION:Christchurch
URL:https://www.cmsnz.org.nz/events/awesome-august-2016
END:VEVENT
END:VCALENDAR
