BEGIN:VCALENDAR
VERSION:2.0
PRODID:-//Plone.org//NONSGML plone.app.event//EN
X-WR-TIMEZONE:Pacific/Auckland
BEGIN:VEVENT
SUMMARY:August Gold Card Cruisers
DTSTART;VALUE=DATE-TIME:20140813T223000Z
DTEND;VALUE=DATE-TIME:20140814T043000Z
DTSTAMP;VALUE=DATE-TIME:20260425T005303Z
UID:3c2b0f6bf3224dbbaee58620c7b620d2
CATEGORIES:Gold Card Cruisers
CONTACT:Jim Milne\, 03 366 3060\, bettabee@clear.net.nz
CREATED;VALUE=DATE-TIME:20140730T043317Z
DESCRIPTION:Our regular\, mid month\, mid week outing for the CMSNZ Inc
LAST-MODIFIED;VALUE=DATE-TIME:20140730T043325Z
LOCATION:Christchurch
URL:https://www.cmsnz.org.nz/events/august-gold-card-cruisers
END:VEVENT
END:VCALENDAR
