BEGIN:VCALENDAR
VERSION:2.0
PRODID:-//Plone.org//NONSGML plone.app.event//EN
X-WR-TIMEZONE:Pacific/Auckland
BEGIN:VEVENT
SUMMARY:August August 2014
DTSTART;VALUE=DATE-TIME:20140802T223000Z
DTEND;VALUE=DATE-TIME:20140803T043000Z
DTSTAMP;VALUE=DATE-TIME:20260425T025125Z
UID:7b24f3531c464d7d964b30e51bbdecee
CATEGORIES:Monthly Run
CONTACT:Mel & Gill Peters\, 03 337 4144\, petersmg@ihug.co.nz
CREATED;VALUE=DATE-TIME:20140730T042804Z
DESCRIPTION:Our regular\, first Sunday of the month day run for the CMSNZ 
 Inc.
LAST-MODIFIED;VALUE=DATE-TIME:20140730T042902Z
LOCATION:Christchurch
URL:https://www.cmsnz.org.nz/events/august-august-2014
END:VEVENT
END:VCALENDAR
