BEGIN:VCALENDAR
VERSION:2.0
PRODID:-//Plone.org//NONSGML plone.app.event//EN
X-WR-TIMEZONE:Pacific/Auckland
BEGIN:VEVENT
SUMMARY:Ashburton Vintage Car Club Swap Meet 2014
DTSTART;VALUE=DATE-TIME:20140502T193000Z
DTEND;VALUE=DATE-TIME:20140503T023000Z
DTSTAMP;VALUE=DATE-TIME:20260425T045645Z
UID:475d503623ec43aaad2f69a8fa4a79ae
CONTACT:Kathryn Shaw\, 03 307 8896\, http://www.wheelsweek.co.nz
CREATED;VALUE=DATE-TIME:20140426T094454Z
DESCRIPTION:This is NOT a CMSNZ event.
LAST-MODIFIED;VALUE=DATE-TIME:20140426T094658Z
LOCATION:Ashburton A&P Showgrounds start
URL:https://www.cmsnz.org.nz/events/ashburton-vintage-car-club-swap-meet-2
 014
END:VEVENT
END:VCALENDAR
