BEGIN:VCALENDAR
VERSION:2.0
PRODID:-//Plone.org//NONSGML plone.app.event//EN
X-WR-TIMEZONE:Pacific/Auckland
BEGIN:VEVENT
SUMMARY:Ashburton Rotary Club Classic Car Rally
DTSTART;VALUE=DATE-TIME:20140503T221500Z
DTEND;VALUE=DATE-TIME:20140504T040000Z
DTSTAMP;VALUE=DATE-TIME:20260425T041308Z
UID:9aa9f841be7d4b5d90677d3fbd0a6528
CREATED;VALUE=DATE-TIME:20140218T070329Z
DESCRIPTION:This is NOT a CMSNZ event and is part of the Ashburton Wheels 
 Week festivities.
LAST-MODIFIED;VALUE=DATE-TIME:20140218T070343Z
LOCATION:Ashburton A&P Showgrounds start
URL:https://www.cmsnz.org.nz/events/ashburton-rotary-club-classic-car-rall
 y
END:VEVENT
END:VCALENDAR
