BEGIN:VCALENDAR
VERSION:2.0
PRODID:-//Plone.org//NONSGML plone.app.event//EN
X-WR-TIMEZONE:Pacific/Auckland
BEGIN:VEVENT
SUMMARY:Ashburton AutoSparks 25th Anniversary Street Sprints
DTSTART;VALUE=DATE-TIME:20140509T203000Z
DTEND;VALUE=DATE-TIME:20140511T040000Z
DTSTAMP;VALUE=DATE-TIME:20260425T045811Z
UID:982f04dd25e0444a97a3f151635a68dc
CONTACT:http://www.ashburtoncarclub.org.nz/cms/upcoming-events/15-street-s
 prints/event_details
CREATED;VALUE=DATE-TIME:20140424T020254Z
DESCRIPTION:Weekend long event that is part of Wings & Wheels event in Ash
 burton. This is NOT a CMSNZ event
LAST-MODIFIED;VALUE=DATE-TIME:20140424T021016Z
LOCATION:Ashburton (Industrial Area)
URL:https://www.cmsnz.org.nz/events/ashburton-autosparks-25th-anniversary-
 street-sprints
END:VEVENT
END:VCALENDAR
