BEGIN:VCALENDAR
VERSION:2.0
PRODID:-//Plone.org//NONSGML plone.app.event//EN
X-WR-TIMEZONE:Pacific/Auckland
BEGIN:VEVENT
SUMMARY:April Fools Run
DTSTART;VALUE=DATE-TIME:20120331T220000Z
DTEND;VALUE=DATE-TIME:20120401T040000Z
DTSTAMP;VALUE=DATE-TIME:20260425T043248Z
UID:1ce3fe4b30a95933ed805e8b83825cf7
CATEGORIES:Monthly Run
CONTACT:Mel Peters\, 03 337 4144\, petersmg@ihug.co.nz
CREATED;VALUE=DATE-TIME:20120113T032330Z
DESCRIPTION:Our monthly run has landed on an (in)auspicious day\, dependin
 g on your point of view. Dust off your classic and come join in the hijink
 s!
LAST-MODIFIED;VALUE=DATE-TIME:20120321T045054Z
LOCATION:Christchurch
URL:https://www.cmsnz.org.nz/events/april-fools-run
END:VEVENT
END:VCALENDAR
