BEGIN:VCALENDAR
VERSION:2.0
PRODID:-//Plone.org//NONSGML plone.app.event//EN
X-WR-TIMEZONE:Pacific/Auckland
BEGIN:VEVENT
SUMMARY:April Antics 2013
DTSTART;VALUE=DATE-TIME:20130406T223000Z
DTEND;VALUE=DATE-TIME:20130407T040000Z
DTSTAMP;VALUE=DATE-TIME:20260425T011051Z
UID:efae6247fb9d469a8040c70e3ddd1e05
CATEGORIES:Monthly Run
CONTACT:Julian Barrett\, 03-359 1100\, jkbarrett@clear.net.nz
CREATED;VALUE=DATE-TIME:20130124T035619Z
DESCRIPTION:CMSNZ's regular monthly run and we're off to Homebush
LAST-MODIFIED;VALUE=DATE-TIME:20130401T063612Z
LOCATION:Christchurch
URL:https://www.cmsnz.org.nz/events/april-antics-2013
END:VEVENT
END:VCALENDAR
