BEGIN:VCALENDAR
VERSION:2.0
PRODID:-//Plone.org//NONSGML plone.app.event//EN
X-WR-TIMEZONE:Pacific/Auckland
BEGIN:VEVENT
SUMMARY:April Adventures
DTSTART;VALUE=DATE-TIME:20140405T223000Z
DTEND;VALUE=DATE-TIME:20140406T040000Z
DTSTAMP;VALUE=DATE-TIME:20260425T025631Z
UID:c46dbbb6229749ba9097c32a9dd0059b
CATEGORIES:Monthly Run
CONTACT:Jim Milne\, 03 366 3060
CREATED;VALUE=DATE-TIME:20140218T092142Z
DESCRIPTION:One of the Classic Motoring Society's regular\, first Sunday o
 f the month day runs
LAST-MODIFIED;VALUE=DATE-TIME:20140220T235440Z
LOCATION:Christchurch - Ashburton
URL:https://www.cmsnz.org.nz/events/april-adventures
END:VEVENT
END:VCALENDAR
